BEGIN:VCALENDAR
VERSION:2.0
PRODID:-//hacksw/handcal//NONSGML v1.0//EN
CALSCALE:GREGORIAN
BEGIN:VEVENT
UID:17
DTSTAMP:20260423T111853Z
DESCRIPTION:[I]Scale Model Challenge[/I] ([I]SMC[/I]) is a major international event for Figure Painters and Scale Modellers\, with a high standard contest\, trade\, clubs\, ...
DTSTART:20261017T073000Z
DTEND:20261017T150000Z
LOCATION:Locht 117\, 5504 RM Veldhoven
SUMMARY:Scale Model Challenge (SMC)
URL;VALUE=URI:https://www.twenot-forums.nl/events/scale-model-challenge-smc.17/
PARTICIPATION:NEEDS-ACTION
END:VEVENT
END:VCALENDAR