BEGIN:VCALENDAR
VERSION:2.0
PRODID:-//hacksw/handcal//NONSGML v1.0//EN
CALSCALE:GREGORIAN
BEGIN:VEVENT
UID:40
DTSTAMP:20260422T171122Z
DESCRIPTION:[URL unfurl="true"]https://modelingmania.be/menu-nl/[/URL]
DTSTART:20261003T080000Z
DTEND:20261003T160000Z
LOCATION:Hall des Criées\, Rue de Charneux 94\, 4650 Herve\, België
SUMMARY:Modeling Mania 2026
URL;VALUE=URI:https://www.twenot-forums.nl/events/modeling-mania-2026.40/
PARTICIPATION:NEEDS-ACTION
END:VEVENT
END:VCALENDAR