BEGIN:VCALENDAR
VERSION:2.0
PRODID:-//hacksw/handcal//NONSGML v1.0//EN
CALSCALE:GREGORIAN
BEGIN:VEVENT
UID:43
DTSTAMP:20260421T142321Z
DESCRIPTION:[URL unfurl="true"]https://www.bevrijdendevleugels.nl/modelbouwdag[/URL]
DTSTART:20260412T080000Z
DTEND:20260412T150000Z
LOCATION:Sonseweg 39\, 5681 BH Best
SUMMARY:Modelbouwdag 2026 Bevrijdende Vleugels
URL;VALUE=URI:https://www.twenot-forums.nl/events/modelbouwdag-2026-bevrijdende-vleugels.43/
PARTICIPATION:NEEDS-ACTION
END:VEVENT
END:VCALENDAR