BEGIN:VCALENDAR
VERSION:2.0
PRODID:-//hacksw/handcal//NONSGML v1.0//EN
CALSCALE:GREGORIAN
BEGIN:VEVENT
UID:39
DTSTAMP:20260422T001526Z
DESCRIPTION:[URL unfurl="true"]https://kmk-scaleworld.be/scaleworld-2026/[/URL]
DTSTART:20260531T080000Z
DTEND:20260531T150000Z
LOCATION:Thomas More Kempen\, Kleinhoefstraat 4\, 2440 Geel\, België
SUMMARY:KMK ScaleWorld 2026
URL;VALUE=URI:https://www.twenot-forums.nl/events/kmk-scaleworld-2026.39/
PARTICIPATION:NEEDS-ACTION
END:VEVENT
END:VCALENDAR