BEGIN:VCALENDAR
VERSION:2.0
PRODID:-//hacksw/handcal//NONSGML v1.0//EN
CALSCALE:GREGORIAN
BEGIN:VEVENT
UID:42
DTSTAMP:20260422T082141Z
DESCRIPTION:History on site organiseert een historische reis naar de stranden van Normandië van 11 t/m 14 Juni dit jaar.
DTSTART;VALUE=DATE:20260610
LOCATION:
SUMMARY:Historische reis naar de stranden van Normandië
URL;VALUE=URI:https://www.twenot-forums.nl/events/historische-reis-naar-de-stranden-van-normandi%C3%AB.42/
PARTICIPATION:NEEDS-ACTION
END:VEVENT
END:VCALENDAR