BEGIN:VCALENDAR
VERSION:2.0
PRODID:-//hacksw/handcal//NONSGML v1.0//EN
CALSCALE:GREGORIAN
BEGIN:VEVENT
UID:38
DTSTAMP:20260422T014814Z
DESCRIPTION:[URL unfurl="true"]https://ipms-antwerpen.be/event/flanders-modelling-festival/[/URL]
DTSTART:20260321T080000Z
DTEND:20260321T160000Z
LOCATION:Salesianenlaan 1\, 2660 Hoboken\, België
SUMMARY:Flanders’ Modelling Festival 2026
URL;VALUE=URI:https://www.twenot-forums.nl/events/flanders%E2%80%99-modelling-festival-2026.38/
PARTICIPATION:NEEDS-ACTION
END:VEVENT
END:VCALENDAR