BEGIN:VCALENDAR
VERSION:2.0
PRODID:-//hacksw/handcal//NONSGML v1.0//EN
CALSCALE:GREGORIAN
BEGIN:VEVENT
UID:16
DTSTAMP:20260423T093326Z
DESCRIPTION:Euro Scale Modelling  vindt elk jaar plaats in Expo Houten. In dit fraaie\, centraal in het land gelegen\, evenementencomplex hebben we meer dan voldoende ruimte met ruim 9.000 m2\, verdeeld over drie hallen\, voor show\, verkoop en de modelbouwwedstrijd. De locatie is in de hobbywereld geen onbekende omdat er ook regelmatig modelauto- en modelspoorbeurzen worden georganiseerd.
DTSTART:20261128T090000Z
DTEND:20261128T160000Z
LOCATION:Meidoornkade 24\, 3992 AE Houten
SUMMARY:Euro Scale Modeling
URL;VALUE=URI:https://www.twenot-forums.nl/events/euro-scale-modeling.16/
PARTICIPATION:NEEDS-ACTION
END:VEVENT
END:VCALENDAR