BEGIN:VCALENDAR
VERSION:2.0
PRODID:-//hacksw/handcal//NONSGML v1.0//EN
CALSCALE:GREGORIAN
BEGIN:VEVENT
UID:36
DTSTAMP:20260420T182650Z
DESCRIPTION:het bestuur vergadert deze keer fysiek\, ook ter voorbereiding op ons jubileum.
DTSTART:20260215T110000Z
DTEND:20260215T150000Z
LOCATION:
SUMMARY:Bestuursvergadering
URL;VALUE=URI:https://www.twenot-forums.nl/events/bestuursvergadering.36/
PARTICIPATION:NEEDS-ACTION
END:VEVENT
END:VCALENDAR