BEGIN:VCALENDAR
VERSION:2.0
PRODID:-//hacksw/handcal//NONSGML v1.0//EN
CALSCALE:GREGORIAN
BEGIN:VEVENT
UID:41
DTSTAMP:20260421T091728Z
DESCRIPTION:[URL unfurl="true"]https://www.bsmc.be[/URL]
DTSTART:20261213T090000Z
DTEND:20261213T160000Z
LOCATION:GC Klein Boom\, Mechelbaan 604\, 2580 Putte\, België
SUMMARY:Belgian Scale Modellers Convention (BSMC) 2026
URL;VALUE=URI:https://www.twenot-forums.nl/events/belgian-scale-modellers-convention-bsmc-2026.41/
PARTICIPATION:NEEDS-ACTION
END:VEVENT
END:VCALENDAR